BEGIN:VCALENDAR
VERSION:2.0
PRODID:-//Kennedys Bar Moseley Birmingham - ECPv6.15.12.2//NONSGML v1.0//EN
CALSCALE:GREGORIAN
METHOD:PUBLISH
X-ORIGINAL-URL:https://kennedysbar.co.uk
X-WR-CALDESC:Events for Kennedys Bar Moseley Birmingham
REFRESH-INTERVAL;VALUE=DURATION:PT1H
X-Robots-Tag:noindex
X-PUBLISHED-TTL:PT1H
BEGIN:VTIMEZONE
TZID:Europe/London
BEGIN:DAYLIGHT
TZOFFSETFROM:+0000
TZOFFSETTO:+0100
TZNAME:BST
DTSTART:20250330T010000
END:DAYLIGHT
BEGIN:STANDARD
TZOFFSETFROM:+0100
TZOFFSETTO:+0000
TZNAME:GMT
DTSTART:20251026T010000
END:STANDARD
BEGIN:DAYLIGHT
TZOFFSETFROM:+0000
TZOFFSETTO:+0100
TZNAME:BST
DTSTART:20260329T010000
END:DAYLIGHT
BEGIN:STANDARD
TZOFFSETFROM:+0100
TZOFFSETTO:+0000
TZNAME:GMT
DTSTART:20261025T010000
END:STANDARD
BEGIN:DAYLIGHT
TZOFFSETFROM:+0000
TZOFFSETTO:+0100
TZNAME:BST
DTSTART:20270328T010000
END:DAYLIGHT
BEGIN:STANDARD
TZOFFSETFROM:+0100
TZOFFSETTO:+0000
TZNAME:GMT
DTSTART:20271031T010000
END:STANDARD
END:VTIMEZONE
BEGIN:VEVENT
DTSTART;VALUE=DATE:20260310
DTEND;VALUE=DATE:20260314
DTSTAMP:20260424T053612
CREATED:20260202T142447Z
LAST-MODIFIED:20260202T151627Z
UID:14229-1773100800-1773446399@kennedysbar.co.uk
SUMMARY:Cheltenham Festival 2025
DESCRIPTION:Join us at Kennedy’s Moseley for the ultimate Cheltenham Festival experience\, running Tuesday 10th to Friday 13th March. \nEnjoy every race live\, shown across multiple screens with full commentary\, plus our large Guinness garden screen so you won’t miss a moment of the action. \nFuel the day with festival favourites served from morning to night\, including: \n\nTraditional Irish breakfast\nGuinness burgers\nWhiskey wings\n\nFood is available all day throughout the festival. \nBookmakers are conveniently located just across the road.
URL:https://kennedysbar.co.uk/event/cheltenham-festival-2025/
CATEGORIES:Cheltenham,Live Music
ATTACH;FMTTYPE=image/jpeg:https://kennedysbar.co.uk/website/wp-content/uploads/2026/02/cheltenham-Kennedys.jpg
END:VEVENT
END:VCALENDAR