BEGIN:VCALENDAR
VERSION:2.0
PRODID:-//Kennedys Bar Moseley Birmingham - ECPv6.15.12.2//NONSGML v1.0//EN
CALSCALE:GREGORIAN
METHOD:PUBLISH
X-ORIGINAL-URL:https://kennedysbar.co.uk
X-WR-CALDESC:Events for Kennedys Bar Moseley Birmingham
REFRESH-INTERVAL;VALUE=DURATION:PT1H
X-Robots-Tag:noindex
X-PUBLISHED-TTL:PT1H
BEGIN:VTIMEZONE
TZID:Europe/London
BEGIN:DAYLIGHT
TZOFFSETFROM:+0000
TZOFFSETTO:+0100
TZNAME:BST
DTSTART:20250330T010000
END:DAYLIGHT
BEGIN:STANDARD
TZOFFSETFROM:+0100
TZOFFSETTO:+0000
TZNAME:GMT
DTSTART:20251026T010000
END:STANDARD
BEGIN:DAYLIGHT
TZOFFSETFROM:+0000
TZOFFSETTO:+0100
TZNAME:BST
DTSTART:20260329T010000
END:DAYLIGHT
BEGIN:STANDARD
TZOFFSETFROM:+0100
TZOFFSETTO:+0000
TZNAME:GMT
DTSTART:20261025T010000
END:STANDARD
BEGIN:DAYLIGHT
TZOFFSETFROM:+0000
TZOFFSETTO:+0100
TZNAME:BST
DTSTART:20270328T010000
END:DAYLIGHT
BEGIN:STANDARD
TZOFFSETFROM:+0100
TZOFFSETTO:+0000
TZNAME:GMT
DTSTART:20271031T010000
END:STANDARD
END:VTIMEZONE
BEGIN:VEVENT
DTSTART;TZID=Europe/London:20260418T193000
DTEND;TZID=Europe/London:20260418T233000
DTSTAMP:20260423T195445
CREATED:20260305T115133Z
LAST-MODIFIED:20260305T115219Z
UID:14393-1776540600-1776555000@kennedysbar.co.uk
SUMMARY:Off the Wall
DESCRIPTION:🎶 Live Music at Kennedy’s Bar – Off the Wall 🎶 \n📅 Saturday 18th March\n📍 Kennedy’s Bar\, Birmingham \nGet ready for a fantastic night of live music with Off the Wall\, a talented local Birmingham band bringing you covers from across the decades and genres. From classic favourites to modern hits\, there’ll be something for everyone to enjoy. \nWhether you’re up for a sing-along\, a dance\, or just a great atmosphere with friends\, Kennedy’s Bar is the place to be! \n🎤 Live Band\n🍻 Great Drinks\n🎵 Music You Know & Love \nFree entry – everyone welcome!\nCome down and support local live music for a great night out
URL:https://kennedysbar.co.uk/event/off-the-wall-2/
CATEGORIES:Live Music
ATTACH;FMTTYPE=image/png:https://kennedysbar.co.uk/website/wp-content/uploads/2026/03/offthewall18thapr.png
END:VEVENT
BEGIN:VEVENT
DTSTART;TZID=Europe/London:20260417T193000
DTEND;TZID=Europe/London:20260417T233000
DTSTAMP:20260423T195445
CREATED:20260409T111925Z
LAST-MODIFIED:20260409T111925Z
UID:14483-1776454200-1776468600@kennedysbar.co.uk
SUMMARY:The Cadenzas
DESCRIPTION:Get ready for a feel-good night of groove\, rhythm\, and dancefloor classics as The Cadenzas bring their signature Soul\, Funk & Disco sound to Kennedy’s Bar. \n🔥 The Cadenzas – Live📅 Friday 17th April⏰ From 7:30pm📍 Kennedy’s Bar \nExpect smooth soul vocals\, funky basslines\, and disco favourites that will have you moving from the very first song. The Cadenzas deliver a lively set packed with timeless tracks and irresistible rhythms that keep the atmosphere buzzing all night long. \nWhether you’re in the mood to dance\, sing along\, or just enjoy fantastic live music with friends\, this is a night not to miss. \n🎤 Live Soul\, Funk & Disco🍻 Great drinks and great vibes🎶 Classic grooves you know and love \nFree entry – everyone welcome!Come down\, hit the dancefloor\, and enjoy a brilliant night of live music at Kennedy’s Bar.
URL:https://kennedysbar.co.uk/event/the-cadenzas/
CATEGORIES:Live Music
ATTACH;FMTTYPE=image/jpeg:https://kennedysbar.co.uk/website/wp-content/uploads/2026/04/The-Cadenzas-generic.jpg
END:VEVENT
BEGIN:VEVENT
DTSTART;TZID=Europe/London:20260411T210000
DTEND;TZID=Europe/London:20260411T233000
DTSTAMP:20260423T195445
CREATED:20260313T093819Z
LAST-MODIFIED:20260313T093819Z
UID:14459-1775941200-1775950200@kennedysbar.co.uk
SUMMARY:The Beards
DESCRIPTION:Get ready for a brilliant night of live music at Kennedy’s Bar as The Beards take to the stage. \n🔥 The Beards – Live📅 Saturday 11th April⏰ From 9pm📍 Kennedy’s Bar \nKnown for their high-energy performances and fun take on classic hits\, The Beards deliver a lively show packed with well-loved favourites that always get the crowd involved. \nExpect big sing-along moments\, plenty of laughs\, and a fantastic atmosphere from start to finish. \n🎶 High-energy covers of classic hits🍻 Great drinks & a great crowd🎤 Live music from 9pm \nBring your friends and join us for a fun-filled Saturday night of live music at Kennedy’s Bar. 🎸
URL:https://kennedysbar.co.uk/event/the-beards/
CATEGORIES:Live Music
ATTACH;FMTTYPE=image/png:https://kennedysbar.co.uk/website/wp-content/uploads/2026/03/The-Beards.png
END:VEVENT
BEGIN:VEVENT
DTSTART;TZID=Europe/London:20260410T210000
DTEND;TZID=Europe/London:20260410T233000
DTSTAMP:20260423T195445
CREATED:20260313T093124Z
LAST-MODIFIED:20260313T093124Z
UID:14453-1775854800-1775863800@kennedysbar.co.uk
SUMMARY:Project Vintage
DESCRIPTION:🎶 3’s A Crowd – Live! 🎶 \nJoin us at Kennedy’s Bar for a brilliant night of live music as Project Vintage hit the stage. \n🔥 Project Vintage – Live📅 Friday 10th April⏰ From 9pm📍 Kennedy’s Bar \nBringing a high-energy mix of rock and pop covers\, Project Vintage perform a set packed with well-known hits and crowd favourites that are guaranteed to get everyone singing along. \nExpect great musicianship\, a lively atmosphere\, and a night full of timeless rock and pop classics performed live. \n🎸 Rock & Pop covers🍻 Great drinks & a great crowd🎶 Live music from 9pm \nGrab your friends and join us for a fantastic Friday night of live music at Kennedy’s Bar. 🎤🎶
URL:https://kennedysbar.co.uk/event/project-vintage/
CATEGORIES:Live Music
ATTACH;FMTTYPE=image/png:https://kennedysbar.co.uk/website/wp-content/uploads/2026/03/Project-Vintage.png
END:VEVENT
BEGIN:VEVENT
DTSTART;TZID=Europe/London:20260403T210000
DTEND;TZID=Europe/London:20260403T233000
DTSTAMP:20260423T195445
CREATED:20260313T092726Z
LAST-MODIFIED:20260313T092955Z
UID:14451-1775250000-1775259000@kennedysbar.co.uk
SUMMARY:3s A Crowd
DESCRIPTION:🎶 3’s A Crowd – Live! 🎶 \nJoin us at Kennedy’s Bar for a great night of live music as 3’s A Crowd take the stage. \n🔥 3’s A Crowd – Live📅 Friday 3rd April⏰ From 9pm📍 Kennedy’s Bar \nThis talented acoustic duo bring a relaxed and engaging live show featuring well-loved songs spanning from the 60s right through to today. With great vocals\, acoustic guitars\, and plenty of familiar favourites\, it’s the perfect soundtrack for a Friday night. \nExpect timeless classics\, modern hits\, and plenty of sing-along moments in a friendly\, lively atmosphere. \n🎸 Acoustic covers from the 60s to today🍻 Great drinks & a great crowd🎶 Live music from 9pm \nGrab your friends and join us for a brilliant night of acoustic live music at Kennedy’s Bar. 🎤🎶
URL:https://kennedysbar.co.uk/event/3s-a-crowd/
CATEGORIES:Live Music
ATTACH;FMTTYPE=image/png:https://kennedysbar.co.uk/website/wp-content/uploads/2026/03/3s-a-Crowd.png
END:VEVENT
BEGIN:VEVENT
DTSTART;TZID=Europe/London:20260328T193000
DTEND;TZID=Europe/London:20260328T233000
DTSTAMP:20260423T195445
CREATED:20260305T133040Z
LAST-MODIFIED:20260305T133055Z
UID:14420-1774726200-1774740600@kennedysbar.co.uk
SUMMARY:Sudden Impact
DESCRIPTION:🎸 Sudden Impact – Live at Kennedy’s Bar! 🎶 \nGet ready for a night of great music and good vibes as Sudden Impact take the stage at Kennedy’s Bar on Saturday 28th March! \nExpect a high-energy set packed with well-known and well-loved rock\, pop & indie covers\, guaranteed to get the crowd singing along and dancing all night. \n📍 Kennedy’s Bar\n📅 Saturday 28th March\n🎤 Live music from Sudden Impact \nBring your friends\, grab a drink\, and enjoy an evening of classic anthems and feel-good tunes performed live. \nFree entry – everyone welcome!
URL:https://kennedysbar.co.uk/event/heed-4/
CATEGORIES:Live Music
ATTACH;FMTTYPE=image/png:https://kennedysbar.co.uk/website/wp-content/uploads/2026/03/Sudden-Impact-live-at-Kennedys-Bar.png
END:VEVENT
BEGIN:VEVENT
DTSTART;TZID=Europe/London:20260321T210000
DTEND;TZID=Europe/London:20260321T233000
DTSTAMP:20260423T195445
CREATED:20260312T140434Z
LAST-MODIFIED:20260312T140434Z
UID:14446-1774126800-1774135800@kennedysbar.co.uk
SUMMARY:The Jewels Band
DESCRIPTION:🎶 The Jewels Band – Live! 🎶 \nJoin us at Kennedy’s Bar for a fantastic night of live music as The Jewels Band take the stage. \n🔥 The Jewels Band – Live📅 Saturday 21st March📍 Kennedy’s Bar \nBringing a lively set packed with well-loved hits and crowd favourites\, The Jewels Band deliver an energetic live show that’s perfect for a great night out. \nExpect a brilliant atmosphere\, big sing-along moments\, and a night of great music and good times. \n🍻 Great drinks🎶 Live music from 9pm🎉 A perfect Saturday night out \nGrab your friends and join us for a brilliant night of live entertainment at Kennedy’s Bar. 🎤🎸
URL:https://kennedysbar.co.uk/event/the-jewels-band/
CATEGORIES:Live Music
ATTACH;FMTTYPE=image/jpeg:https://kennedysbar.co.uk/website/wp-content/uploads/2026/03/JEWELS-BAND.jpg
END:VEVENT
BEGIN:VEVENT
DTSTART;TZID=Europe/London:20260320T193000
DTEND;TZID=Europe/London:20260320T233000
DTSTAMP:20260423T195445
CREATED:20260305T125124Z
LAST-MODIFIED:20260305T125124Z
UID:14409-1774035000-1774049400@kennedysbar.co.uk
SUMMARY:HEED
DESCRIPTION:🎶 Live at Kennedy’s Bar – HEED 🍀\n📅 Friday 20th March \nJoin us for a fantastic evening of live music at Kennedy’s Bar with HEED – two talented local sisters bringing their unique sound to the stage. \nBlending music from across the genres with a distinctive Irish twist\, HEED deliver a lively\, feel-good performance full of character\, harmony and energy. From familiar favourites to unexpected gems\, their set promises something for everyone. \nGrab a drink\, bring your friends\, and enjoy a night of great live music in a brilliant atmosphere. \n📍 Kennedy’s Bar\n📅 Friday 20th March\n🎵 Live music from HEED \nDon’t miss it – come along and support local live music! 🍻🎤
URL:https://kennedysbar.co.uk/event/heed/
CATEGORIES:Live Music
ATTACH;FMTTYPE=image/png:https://kennedysbar.co.uk/website/wp-content/uploads/2026/03/heed.png
END:VEVENT
BEGIN:VEVENT
DTSTART;TZID=Europe/London:20260317T170000
DTEND;TZID=Europe/London:20260317T233000
DTSTAMP:20260423T195445
CREATED:20260312T135621Z
LAST-MODIFIED:20260312T135859Z
UID:14440-1773766800-1773790200@kennedysbar.co.uk
SUMMARY:Bang On The Ear & On The Sesh
DESCRIPTION:🍀 St Patrick’s Day Live Music – Kennedy’s Bar 🍀 \nJoin us for a fantastic St Patrick’s Day celebration at Kennedy’s Bar with two brilliant live bands bringing the perfect mix of Irish energy and crowd-favourite covers. \n🔥 Bang on the Ear – Live from 5pmKicking off the celebrations with their lively mix of covers from across the decades and genres\, all delivered with plenty of Irish spirit and sing-along moments. \n🔥 On The Sesh – Live from 8pmKeeping the party going into the evening with a high-energy set packed with Irish favourites and upbeat anthems guaranteed to keep the crowd buzzing. \n📅 Tuesday 17th March📍 Kennedy’s Bar \nExpect great music\, big sing-along moments\, and plenty of St Patrick’s Day craic. \n🍻 Great drinks🎶 Live music all evening🍀 Proper St Patrick’s Day atmosphere \nGrab your friends\, wear something green\, and join us for a St Patrick’s Day party you won’t want to miss! 🍻🎤
URL:https://kennedysbar.co.uk/event/bang-on-the-ear-on-the-sesh/
CATEGORIES:Live Music
ATTACH;FMTTYPE=image/jpeg:https://kennedysbar.co.uk/website/wp-content/uploads/2026/03/IMG-20260211-WA0002.jpg
END:VEVENT
BEGIN:VEVENT
DTSTART;TZID=Europe/London:20260314T193000
DTEND;TZID=Europe/London:20260314T233000
DTSTAMP:20260423T195445
CREATED:20260305T124458Z
LAST-MODIFIED:20260305T124458Z
UID:14406-1773516600-1773531000@kennedysbar.co.uk
SUMMARY:The Night Shift
DESCRIPTION:🎶 The Night Shift – Live at Kennedys Bar 🎶\n📅 Saturday 14th March \nGet ready for a night of Soul\, Funk & Disco classics performed live by The Night Shift! 🕺💃 \nJoin us at Kennedys Bar for an evening packed with timeless grooves\, feel-good vibes and dancefloor favourites from the golden eras of music. \n✨ What to expect:\n• Live Soul\, Funk & Disco covers\n• High-energy performance\n• Great atmosphere & late-night vibes \n📍 Kennedys Bar\n⏰ Music from 7PM \nBring your friends\, grab a drink\, and hit the dancefloor as The Night Shift brings the funk to your Saturday night. \n 
URL:https://kennedysbar.co.uk/event/the-night-shift/
CATEGORIES:Live Music
ATTACH;FMTTYPE=image/png:https://kennedysbar.co.uk/website/wp-content/uploads/2026/03/Live-music-at-Kennedys-Bar.png
END:VEVENT
BEGIN:VEVENT
DTSTART;TZID=Europe/London:20260313T193000
DTEND;TZID=Europe/London:20260313T233000
DTSTAMP:20260423T195445
CREATED:20260305T123215Z
LAST-MODIFIED:20260305T123215Z
UID:14403-1773430200-1773444600@kennedysbar.co.uk
SUMMARY:ONLY ANTHEMS
DESCRIPTION:🎸 ONLY ANTHEMS – Live at Kennedys Bar 🎤 \nGet ready for a night packed with the biggest rock & pop anthems from the last 30 years! \nJoin us at Kennedys Bar on 13th March for an electric live show filled with massive sing-along hits\, crowd favourites\, and the songs everyone knows. \nExpect wall-to-wall anthems from legendary artists across rock and pop — the kind of songs that fill dance floors and get the whole room singing. \n📍 Venue: Kennedys Bar📅 Date: 13th March🎶 Music: Rock & Pop Anthems from the last 30 years🎤 Live performance \nBring your friends\, grab a drink\, and sing along to the soundtrack of the last three decades. \nOnly Anthems. No fillers. Just hits.
URL:https://kennedysbar.co.uk/event/only-anthems/
CATEGORIES:Live Music
ATTACH;FMTTYPE=image/png:https://kennedysbar.co.uk/website/wp-content/uploads/2026/03/only-anthems.png
END:VEVENT
BEGIN:VEVENT
DTSTART;VALUE=DATE:20260310
DTEND;VALUE=DATE:20260314
DTSTAMP:20260423T195445
CREATED:20260202T142447Z
LAST-MODIFIED:20260202T151627Z
UID:14229-1773100800-1773446399@kennedysbar.co.uk
SUMMARY:Cheltenham Festival 2025
DESCRIPTION:Join us at Kennedy’s Moseley for the ultimate Cheltenham Festival experience\, running Tuesday 10th to Friday 13th March. \nEnjoy every race live\, shown across multiple screens with full commentary\, plus our large Guinness garden screen so you won’t miss a moment of the action. \nFuel the day with festival favourites served from morning to night\, including: \n\nTraditional Irish breakfast\nGuinness burgers\nWhiskey wings\n\nFood is available all day throughout the festival. \nBookmakers are conveniently located just across the road.
URL:https://kennedysbar.co.uk/event/cheltenham-festival-2025/
CATEGORIES:Cheltenham,Live Music
ATTACH;FMTTYPE=image/jpeg:https://kennedysbar.co.uk/website/wp-content/uploads/2026/02/cheltenham-Kennedys.jpg
END:VEVENT
BEGIN:VEVENT
DTSTART;TZID=Europe/London:20260307T193000
DTEND;TZID=Europe/London:20260307T233000
DTSTAMP:20260423T195445
CREATED:20260305T121029Z
LAST-MODIFIED:20260305T121101Z
UID:14400-1772911800-1772926200@kennedysbar.co.uk
SUMMARY:The Hot Heads
DESCRIPTION:🎸 Live Music This Saturday at Kennedy’s Bar! 🎸 \nGet ready for a night of Indie & Alternative Rock anthems as The Hot Heads take the stage at Kennedy’s Bar on Saturday\, 7th March. Expect a high-energy set packed with your favourite indie and alt-rock covers\, the perfect soundtrack for a great night out. \n📍 Venue: Kennedy’s Bar\n📅 Date: Saturday\, 7th March\n🎶 Band: The Hot Heads\n🎤 Music: Indie & Alternative Rock Covers\n⏰ Live Music: From 7PM \nBring your friends\, grab a drink\, and sing along to the tunes you love. See you at the bar! 🍻🎶
URL:https://kennedysbar.co.uk/event/the-hot-heads/
CATEGORIES:Live Music
ATTACH;FMTTYPE=image/png:https://kennedysbar.co.uk/website/wp-content/uploads/2026/03/hot-heads.png
END:VEVENT
BEGIN:VEVENT
DTSTART;TZID=Europe/London:20260306T193000
DTEND;TZID=Europe/London:20260306T233000
DTSTAMP:20260423T195445
CREATED:20260305T113954Z
LAST-MODIFIED:20260305T113954Z
UID:14390-1772825400-1772839800@kennedysbar.co.uk
SUMMARY:Off the Wall
DESCRIPTION:🎶 Live Music at Kennedy’s Bar – Off the Wall 🎶 \n📅 Friday 6th March\n📍 Kennedy’s Bar\, Birmingham \nGet ready for a fantastic night of live music with Off the Wall\, a talented local Birmingham band bringing you covers from across the decades and genres. From classic favourites to modern hits\, there’ll be something for everyone to enjoy. \nWhether you’re up for a sing-along\, a dance\, or just a great atmosphere with friends\, Kennedy’s Bar is the place to be! \n🎤 Live Band\n🍻 Great Drinks\n🎵 Music You Know & Love \nFree entry – everyone welcome!\nCome down and support local live music for a great night out
URL:https://kennedysbar.co.uk/event/off-the-wall/
CATEGORIES:Live Music
ATTACH;FMTTYPE=image/png:https://kennedysbar.co.uk/website/wp-content/uploads/2026/03/offthewall6th-March.png
END:VEVENT
BEGIN:VEVENT
DTSTART;TZID=Europe/London:20260228T193000
DTEND;TZID=Europe/London:20260228T233000
DTSTAMP:20260423T195445
CREATED:20260210T113944Z
LAST-MODIFIED:20260210T113944Z
UID:14282-1772307000-1772321400@kennedysbar.co.uk
SUMMARY:Lynne & the Encore Upbeat covers of the best in soul & pop
DESCRIPTION:Join us at Kennedys Moseley on Saturday 28th February for a night of live music with Lynne & the Encore \nExpect upbeat\, feel-good covers of classic and modern soul & pop — powerful vocals\, infectious grooves\, and songs that’ll have you singing along from the first chorus. \nA lively crowd\, uplifting sounds\, and a Saturday night full of great vibes and timeless tunes.
URL:https://kennedysbar.co.uk/event/lynne-the-encore-upbeat-covers-of-the-best-in-soul-pop/
CATEGORIES:Live Music
ATTACH;FMTTYPE=image/png:https://kennedysbar.co.uk/website/wp-content/uploads/2026/02/Lynne-the-Encore.png
END:VEVENT
BEGIN:VEVENT
DTSTART;TZID=Europe/London:20260221T193000
DTEND;TZID=Europe/London:20260221T233000
DTSTAMP:20260423T195445
CREATED:20260210T112141Z
LAST-MODIFIED:20260210T112141Z
UID:14279-1771702200-1771716600@kennedysbar.co.uk
SUMMARY:Push to Play Pop party indie & rock covers
DESCRIPTION:Join us at Kennedys Moseley on Saturday 21st February for a night of live music with Push to Play \nExpect high-energy pop\, indie\, and rock covers designed to get the room moving — big choruses\, crowd-pleasing anthems\, and a party atmosphere from the first song to the last. \nA packed dancefloor\, hands-in-the-air moments\, and a Saturday night that brings the party vibes all the way through.
URL:https://kennedysbar.co.uk/event/push-to-play-pop-party-indie-rock-covers/
CATEGORIES:Live Music
ATTACH;FMTTYPE=image/png:https://kennedysbar.co.uk/website/wp-content/uploads/2026/02/Push-to-play.png
END:VEVENT
BEGIN:VEVENT
DTSTART;TZID=Europe/London:20260214T193000
DTEND;TZID=Europe/London:20260214T233000
DTSTAMP:20260423T195445
CREATED:20260202T155757Z
LAST-MODIFIED:20260202T155757Z
UID:14257-1771097400-1771111800@kennedysbar.co.uk
SUMMARY:Luna Waves Indie covers band
DESCRIPTION:Join us at Kennedys Moseley on Saturday 14th February for a night of live music with Luna Waves. \nExpect stylish indie covers with a fresh\, atmospheric edge — catchy melodies\, smooth vocals\, and feel-good energy that’s perfect for relaxed drinks or getting lost in the music. \nA great crowd\, great sounds\, and an effortlessly cool Saturday night vibe.
URL:https://kennedysbar.co.uk/event/luna-waves-indie-covers-band/
CATEGORIES:Live Music
ATTACH;FMTTYPE=image/png:https://kennedysbar.co.uk/website/wp-content/uploads/2026/02/Luna-Waves.png
END:VEVENT
BEGIN:VEVENT
DTSTART;TZID=Europe/London:20260207T193000
DTEND;TZID=Europe/London:20260207T233000
DTSTAMP:20260423T195445
CREATED:20260202T153935Z
LAST-MODIFIED:20260202T153935Z
UID:14246-1770492600-1770507000@kennedysbar.co.uk
SUMMARY:The Cat Davis Trio – Covers bands with a jazz twist
DESCRIPTION:Join us at Kennedys Moseley on Saturday 7th February for an evening of live jazz-infused grooves with The Cat Davis Trio. \nExpect smooth\, stylish covers reworked with a soulful jazz twist — think warm melodies\, swinging rhythms\, and the perfect soundtrack for cocktails\, conversation\, and late-night vibes. \nGreat music\, a classy atmosphere\, and a Saturday night steeped in jazz — one you won’t want to miss.
URL:https://kennedysbar.co.uk/event/the-cat-davis-trio-covers-bands-with-a-jazz-twist/
CATEGORIES:Live Music
ATTACH;FMTTYPE=image/png:https://kennedysbar.co.uk/website/wp-content/uploads/2026/02/the-cat-davis-trio.png
END:VEVENT
BEGIN:VEVENT
DTSTART;TZID=Europe/London:20260206T193000
DTEND;TZID=Europe/London:20260206T233000
DTSTAMP:20260423T195445
CREATED:20260202T142043Z
LAST-MODIFIED:20260202T143313Z
UID:14225-1770406200-1770420600@kennedysbar.co.uk
SUMMARY:Mikey Rainford Solo Acoustic Live
DESCRIPTION:Join us at Kennedys Moseley on Friday 6th February for a night of live music with Mikey Rainford. \nExpect a relaxed\, feel-good set packed with acoustic covers from across the genres — perfect for a laid-back drink or a lively sing-along. \nGreat music\, great atmosphere\, and the perfect way to start the weekend\, not to be missed
URL:https://kennedysbar.co.uk/event/mikey-rainford-solo-acoustic-live/
CATEGORIES:Live Music
ATTACH;FMTTYPE=image/png:https://kennedysbar.co.uk/website/wp-content/uploads/2026/02/Mikey-Rainford-live-at-Kennedys-Moseley.png
END:VEVENT
END:VCALENDAR