BEGIN:VCALENDAR
VERSION:2.0
PRODID:-//Kennedys Bar Moseley Birmingham - ECPv6.15.12.2//NONSGML v1.0//EN
CALSCALE:GREGORIAN
METHOD:PUBLISH
X-ORIGINAL-URL:https://kennedysbar.co.uk
X-WR-CALDESC:Events for Kennedys Bar Moseley Birmingham
REFRESH-INTERVAL;VALUE=DURATION:PT1H
X-Robots-Tag:noindex
X-PUBLISHED-TTL:PT1H
BEGIN:VTIMEZONE
TZID:Europe/London
BEGIN:DAYLIGHT
TZOFFSETFROM:+0000
TZOFFSETTO:+0100
TZNAME:BST
DTSTART:20250330T010000
END:DAYLIGHT
BEGIN:STANDARD
TZOFFSETFROM:+0100
TZOFFSETTO:+0000
TZNAME:GMT
DTSTART:20251026T010000
END:STANDARD
BEGIN:DAYLIGHT
TZOFFSETFROM:+0000
TZOFFSETTO:+0100
TZNAME:BST
DTSTART:20260329T010000
END:DAYLIGHT
BEGIN:STANDARD
TZOFFSETFROM:+0100
TZOFFSETTO:+0000
TZNAME:GMT
DTSTART:20261025T010000
END:STANDARD
BEGIN:DAYLIGHT
TZOFFSETFROM:+0000
TZOFFSETTO:+0100
TZNAME:BST
DTSTART:20270328T010000
END:DAYLIGHT
BEGIN:STANDARD
TZOFFSETFROM:+0100
TZOFFSETTO:+0000
TZNAME:GMT
DTSTART:20271031T010000
END:STANDARD
END:VTIMEZONE
BEGIN:VEVENT
DTSTART;TZID=Europe/London:20260424T210000
DTEND;TZID=Europe/London:20260424T233000
DTSTAMP:20260423T181224
CREATED:20260409T114327Z
LAST-MODIFIED:20260409T114856Z
UID:14487-1777064400-1777073400@kennedysbar.co.uk
SUMMARY:Ash Sheehan
DESCRIPTION:Get ready for a memorable night of live music as Ash Sheehan brings his multi-instrumental talent and dynamic performance style to Kennedy’s Bar. \n🔥 Ash Sheehan – Live📅 Friday 24th April⏰ From 9:00pm📍 Kennedy’s Bar \nKnown for his energy\, versatility\, and ability to captivate a crowd\, Ash delivers a set packed with well-loved tracks\, unexpected twists\, and the kind of atmosphere that turns a great night into an unforgettable one. \nWhether you’re there for the music\, the vibe\, or a sing-along with friends\, this is live entertainment at its very best. \n🎤 Multi-instrumentalist performance🍻 Great drinks\, great company🎶 A night you won’t forget \nFree entry – everyone welcome!
URL:https://kennedysbar.co.uk/event/ash-sheehan/
CATEGORIES:Live Music
ATTACH;FMTTYPE=image/jpeg:https://kennedysbar.co.uk/website/wp-content/uploads/2026/04/ash-1.jpg
END:VEVENT
BEGIN:VEVENT
DTSTART;TZID=Europe/London:20260425T210000
DTEND;TZID=Europe/London:20260425T233000
DTSTAMP:20260423T181224
CREATED:20260409T115345Z
LAST-MODIFIED:20260409T115345Z
UID:14500-1777150800-1777159800@kennedysbar.co.uk
SUMMARY:Off the Rails
DESCRIPTION:Get ready for a brilliant night of live music as Off The Rails roll into Kennedy’s Bar with a high-energy set packed full of rock and pop favourites from across the decades. \n🔥 Off The Rails – Live📅 Saturday 25th April⏰ From 9:00pm📍 Kennedy’s Bar \nKnown for their lively stage presence and crowd-pleasing setlist\, Off The Rails deliver the kind of covers that get everyone singing along\, dancing\, and enjoying the atmosphere from the first song to the last. \nFrom classic anthems to modern hits\, expect a night of familiar tunes\, great vibes\, and feel-good live entertainment that keeps the party going all evening. \n🎸 Rock & Pop Covers Across the Decades🍻 Great drinks\, great company🎶 Music you know and love \nFree entry – everyone welcome!
URL:https://kennedysbar.co.uk/event/off-the-rails/
CATEGORIES:Live Music
ATTACH;FMTTYPE=image/jpeg:https://kennedysbar.co.uk/website/wp-content/uploads/2026/04/SAT-25TH-APRIL-9PM.jpg
END:VEVENT
BEGIN:VEVENT
DTSTART;TZID=Europe/London:20260501T193000
DTEND;TZID=Europe/London:20260501T233000
DTSTAMP:20260423T181224
CREATED:20260409T115720Z
LAST-MODIFIED:20260409T115741Z
UID:14505-1777663800-1777678200@kennedysbar.co.uk
SUMMARY:Goats on a Trolley
DESCRIPTION:Get ready for a fun-filled evening of live music as Goats on a Trolley bring their lively sound to Kennedy’s Bar with a set of floor-filling classics guaranteed to get the room moving. \n🔥 Goats on a Trolley – Live📅 Friday 1st May⏰ From 7:30pm📍 Kennedy’s Bar \nThis energetic duo know exactly how to read a crowd\, delivering well-known favourites with plenty of personality\, great harmonies\, and a feel-good vibe that builds as the night goes on. \nExpect big sing-along moments\, dancing from the first tune\, and a brilliant atmosphere from start to finish. \n🎤 Lively Duo Performance🍻 Great drinks\, great company🎶 Classic tunes everyone loves \nFree entry – everyone welcome!
URL:https://kennedysbar.co.uk/event/goats-on-a-trolley/
CATEGORIES:Live Music
ATTACH;FMTTYPE=image/jpeg:https://kennedysbar.co.uk/website/wp-content/uploads/2026/04/IMG-20260403-WA0007.jpg
END:VEVENT
BEGIN:VEVENT
DTSTART;TZID=Europe/London:20260502T210000
DTEND;TZID=Europe/London:20260502T233000
DTSTAMP:20260423T181224
CREATED:20260409T120155Z
LAST-MODIFIED:20260409T120155Z
UID:14509-1777755600-1777764600@kennedysbar.co.uk
SUMMARY:Ellie Jones & the Giants
DESCRIPTION:Get set for a brilliant night of live music as Ellie Jones & the Giants bring their powerhouse sound to Kennedy’s Bar. \n🔥 Ellie Jones & the Giants – Live📅 Saturday 2nd May⏰ From 9:00pm📍 Kennedy’s Bar \nThis dynamic three-piece band deliver high-energy performances packed with classic gems that everyone knows and loves. With big vocals\, tight musicianship\, and a stage presence that fills the room\, they create an atmosphere that’s impossible to resist. \nExpect huge sing-along moments\, dancing from the first song\, and a feel-good vibe that builds all night long. \n🎤 3-Piece Powerhouse Band🍻 Great drinks\, great company🎶 Classic tunes with serious energy \nFree entry – everyone welcome!
URL:https://kennedysbar.co.uk/event/ellie-jones-the-giants/
CATEGORIES:Live Music
ATTACH;FMTTYPE=image/jpeg:https://kennedysbar.co.uk/website/wp-content/uploads/2026/04/ellie-jones-and-the-giants.jpg
END:VEVENT
BEGIN:VEVENT
DTSTART;TZID=Europe/London:20260503T210000
DTEND;TZID=Europe/London:20260503T233000
DTSTAMP:20260423T181224
CREATED:20260417T112327Z
LAST-MODIFIED:20260417T112723Z
UID:14516-1777842000-1777851000@kennedysbar.co.uk
SUMMARY:The Chelsea Daggers
DESCRIPTION:Get ready for a brilliant night of live music as The Chelsea Daggers bring their punchy indie\, rock\, and pop anthems to the stage at Kennedy’s Bar. \n🔥 The Chelsea Daggers – Live📅 Sunday 3rd May⏰ From 9:00pm📍 Kennedy’s Bar \nKnown for their energetic sound\, tight musicianship\, and a setlist packed with crowd favourites\, The Chelsea Daggers deliver big choruses\, driving rhythms\, and the kind of tunes that get everyone singing along. From indie classics to rock belters and pop anthems\, their live show keeps the atmosphere buzzing from the first song to the last. \nWhether you’re meeting friends for drinks or looking for a great Sunday night out with top live entertainment\, this is a night full of feel-good vibes and wall-to-wall music. \n🎤 Indie • Rock • Pop Anthems🍻 Great drinks & great atmosphere🎶 Songs you know and love \nFree entry – everyone welcome!
URL:https://kennedysbar.co.uk/event/the-chelsea-daggers/
CATEGORIES:Live Music
ATTACH;FMTTYPE=image/jpeg:https://kennedysbar.co.uk/website/wp-content/uploads/2026/04/GENERIC-CHELSEA-DAGGERS-.jpg
END:VEVENT
BEGIN:VEVENT
DTSTART;TZID=Europe/London:20260508T210000
DTEND;TZID=Europe/London:20260508T233000
DTSTAMP:20260423T181224
CREATED:20260417T113236Z
LAST-MODIFIED:20260417T113236Z
UID:14524-1778274000-1778283000@kennedysbar.co.uk
SUMMARY:The Wild Irish
DESCRIPTION:Join us at Kennedy’s Bar for a brilliant night of live music as The Wild Irish bring their lively Irish covers set to the stage. \n🔥 The Wild Irish – Live📅 Friday 8th May⏰ From 9:00pm📍 Kennedy’s Bar \nThis talented Irish trio deliver a feel-good performance packed with well-known favourites\, upbeat rhythms\, and plenty of sing-along moments. Expect traditional Irish vibes blended with popular covers\, all performed with energy\, charm\, and a sound that fills the room from the very first note. \nWhether you’re out for drinks with friends or looking for a proper Friday night atmosphere\, this is the perfect way to kick off the weekend. \n🎤 Irish covers trio🍻 Great drinks & great company🎶 Lively tunes and big atmosphere \nFree entry – everyone welcome!
URL:https://kennedysbar.co.uk/event/the-wild-irish/
CATEGORIES:Live Music
ATTACH;FMTTYPE=image/jpeg:https://kennedysbar.co.uk/website/wp-content/uploads/2026/04/generic-wild-irish-.jpg
END:VEVENT
BEGIN:VEVENT
DTSTART;TZID=Europe/London:20260509T210000
DTEND;TZID=Europe/London:20260509T233000
DTSTAMP:20260423T181224
CREATED:20260417T113617Z
LAST-MODIFIED:20260417T113617Z
UID:14532-1778360400-1778369400@kennedysbar.co.uk
SUMMARY:The Precursors
DESCRIPTION:Get ready for a vibrant Saturday night of rhythm and groove at Kennedy’s Bar as The Precursors bring their ska and reggae covers to the stage. \n🔥 The Precursors – Live📅 Saturday 9th May⏰ From 9:00pm📍 Kennedy’s Bar \nDelivering upbeat offbeat rhythms\, sunny basslines\, and feel-good classics\, The Precursors serve up a set packed with ska bounce and reggae sway that’s made for dancing. Expect familiar favourites\, infectious grooves\, and a warm\, laid-back vibe that keeps the room moving from the first tune to the last. \nWhether you’re out with friends or just in the mood for something a little different\, this is the perfect Saturday night soundtrack. \n🎤 Ska & Reggae covers🍻 Great drinks & easygoing atmosphere🎶 Dancefloor grooves all night \nFree entry – everyone welcome!
URL:https://kennedysbar.co.uk/event/the-precursors/
CATEGORIES:Live Music
ATTACH;FMTTYPE=image/jpeg:https://kennedysbar.co.uk/website/wp-content/uploads/2026/04/the-precursr.jpg
END:VEVENT
BEGIN:VEVENT
DTSTART;TZID=Europe/London:20260515T210000
DTEND;TZID=Europe/London:20260515T233000
DTSTAMP:20260423T181224
CREATED:20260417T113957Z
LAST-MODIFIED:20260417T113957Z
UID:14537-1778878800-1778887800@kennedysbar.co.uk
SUMMARY:7th Son
DESCRIPTION:Get set for a sharp\, high-energy Friday night at Kennedy’s Bar as 7th Son hit the stage with their punchy mix of Mod rock & roll\, soul\, and indie favourites. \n🔥 7th Son – Live📅 Friday 15th May⏰ From 9:00pm📍 Kennedy’s Bar \nWith driving rhythms\, stylish riffs\, and soulful grooves\, 7th Son deliver a set packed with attitude and timeless tunes. Expect Mod classics\, indie anthems\, and soul gems that keep the energy high and the dancefloor busy from the first note to the last. \nWhether you’re out for a few drinks or a full Friday night out\, this is live music with edge\, character\, and plenty of sing-along moments. \n🎤 Mod Rock & Roll • Soul • Indie🍻 Great drinks & buzzing atmosphere🎶 Big tunes\, big vibes all night \nFree entry – everyone welcome!
URL:https://kennedysbar.co.uk/event/7th-son/
CATEGORIES:Live Music
ATTACH;FMTTYPE=image/jpeg:https://kennedysbar.co.uk/website/wp-content/uploads/2026/04/generic-7th-son.jpg
END:VEVENT
BEGIN:VEVENT
DTSTART;TZID=Europe/London:20260605T193000
DTEND;TZID=Europe/London:20260605T233000
DTSTAMP:20260423T181224
CREATED:20260305T125620Z
LAST-MODIFIED:20260305T125620Z
UID:14412-1780687800-1780702200@kennedysbar.co.uk
SUMMARY:HEED
DESCRIPTION:🎶 Live at Kennedy’s Bar – HEED 🍀\n📅 Friday 20th March \nJoin us for a fantastic evening of live music at Kennedy’s Bar with HEED – two talented local sisters bringing their unique sound to the stage. \nBlending music from across the genres with a distinctive Irish twist\, HEED deliver a lively\, feel-good performance full of character\, harmony and energy. From familiar favourites to unexpected gems\, their set promises something for everyone. \nGrab a drink\, bring your friends\, and enjoy a night of great live music in a brilliant atmosphere. \n📍 Kennedy’s Bar\n📅 Friday 5th June\n🎵 Live music from HEED \nDon’t miss it – come along and support local live music! 🍻🎤
URL:https://kennedysbar.co.uk/event/heed-2/
CATEGORIES:Live Music
ATTACH;FMTTYPE=image/png:https://kennedysbar.co.uk/website/wp-content/uploads/2026/03/heed-June-5th.png
END:VEVENT
BEGIN:VEVENT
DTSTART;TZID=Europe/London:20260612T210000
DTEND;TZID=Europe/London:20260612T233000
DTSTAMP:20260423T181224
CREATED:20260409T114420Z
LAST-MODIFIED:20260409T114808Z
UID:14492-1781298000-1781307000@kennedysbar.co.uk
SUMMARY:Ash Sheehan
DESCRIPTION:Join us at Kennedy’s Bar for another brilliant evening of live music as Ash Sheehan returns with his unmistakable energy and multi-instrumental talent. \n🔥 Ash Sheehan – Live📅 Friday 12th June⏰ From 9:00pm📍 Kennedy’s Bar \nExpect a lively set filled with well-known tracks\, creative twists\, and a performance style that keeps the crowd engaged from the first note to the last. With his dynamic presence and musical versatility\, Ash always delivers an atmosphere that turns an ordinary night out into something special. \n🎤 Multi-instrumentalist live performance🍻 Great drinks and a buzzing atmosphere🎶 Crowd-pleasing favourites with personality \nFree entry – everyone welcome! Come down early and make a night of it.
URL:https://kennedysbar.co.uk/event/ash-sheehan-2/
CATEGORIES:Live Music
ATTACH;FMTTYPE=image/png:https://kennedysbar.co.uk/website/wp-content/uploads/2026/04/ash-2.png
END:VEVENT
BEGIN:VEVENT
DTSTART;TZID=Europe/London:20260718T210000
DTEND;TZID=Europe/London:20260718T233000
DTSTAMP:20260423T181224
CREATED:20260417T112805Z
LAST-MODIFIED:20260417T112805Z
UID:14520-1784408400-1784417400@kennedysbar.co.uk
SUMMARY:The Chelsea Daggers
DESCRIPTION:Get ready for another lively night of unforgettable live music as The Chelsea Daggers take over the stage at Kennedy’s Bar with their crowd-pleasing blend of indie\, rock\, and pop anthems. \n🔥 The Chelsea Daggers – Live📅 Saturday 24th July⏰ From 9:00pm📍 Kennedy’s Bar \nKnown for their infectious energy\, tight sound\, and a set packed full of sing-along favourites\, the band deliver big choruses\, driving guitar riffs\, and feel-good hits that keep the atmosphere buzzing from the first song to the last. Expect a mix of indie classics\, rock favourites\, and pop anthems that guarantee a dancefloor in full swing. \nWhether you’re meeting friends for drinks or heading out for a proper Saturday night out\, this is the perfect soundtrack to your weekend. \n🎤 Indie • Rock • Pop favourites🍻 Great drinks & a brilliant atmosphere🎶 Non-stop tunes and big vibes \nFree entry – everyone welcome!
URL:https://kennedysbar.co.uk/event/the-chelsea-daggers-2/
CATEGORIES:Live Music
ATTACH;FMTTYPE=image/jpeg:https://kennedysbar.co.uk/website/wp-content/uploads/2026/04/GENERIC-CHELSEA-DAGGERS-.jpg
END:VEVENT
BEGIN:VEVENT
DTSTART;TZID=Europe/London:20260807T210000
DTEND;TZID=Europe/London:20260807T233000
DTSTAMP:20260423T181224
CREATED:20260417T113313Z
LAST-MODIFIED:20260417T113313Z
UID:14527-1786136400-1786145400@kennedysbar.co.uk
SUMMARY:The Wild Irish
DESCRIPTION:Kick off your weekend with a fantastic night of live music at Kennedy’s Bar as The Wild Irish return with their lively Irish covers set. \n🔥 The Wild Irish – Live📅 Friday 7th August⏰ From 9:00pm📍 Kennedy’s Bar \nBringing infectious energy\, rich harmonies\, and a set packed with well-known favourites\, this talented trio blend classic Irish spirit with crowd-pleasing covers that are made for singing along. From upbeat rhythms to feel-good anthems\, their performance creates an atmosphere that gets the whole room involved. \nWhether you’re meeting friends for a few drinks or heading out for a proper Friday night out\, expect great tunes\, big smiles\, and a brilliant vibe from start to finish. \n🎤 Irish covers trio🍻 Great drinks & lively atmosphere🎶 Songs everyone knows and loves \nFree entry – everyone welcome!
URL:https://kennedysbar.co.uk/event/the-wild-irish-2/
CATEGORIES:Live Music
ATTACH;FMTTYPE=image/jpeg:https://kennedysbar.co.uk/website/wp-content/uploads/2026/04/generic-wild-irish-.jpg
END:VEVENT
BEGIN:VEVENT
DTSTART;TZID=Europe/London:20260808T193000
DTEND;TZID=Europe/London:20260808T233000
DTSTAMP:20260423T181224
CREATED:20260305T125951Z
LAST-MODIFIED:20260305T130106Z
UID:14415-1786217400-1786231800@kennedysbar.co.uk
SUMMARY:HEED
DESCRIPTION:🎶 Live at Kennedy’s Bar – HEED 🍀\n📅 Saturday 8th August \nJoin us for a fantastic evening of live music at Kennedy’s Bar with HEED – two talented local sisters bringing their unique sound to the stage. \nBlending music from across the genres with a distinctive Irish twist\, HEED deliver a lively\, feel-good performance full of character\, harmony and energy. From familiar favourites to unexpected gems\, their set promises something for everyone. \nGrab a drink\, bring your friends\, and enjoy a night of great live music in a brilliant atmosphere. \n📍 Kennedy’s Bar\n📅 Friday 5th June\n🎵 Live music from HEED \nDon’t miss it – come along and support local live music! 🍻🎤
URL:https://kennedysbar.co.uk/event/heed-3/
CATEGORIES:Live Music
ATTACH;FMTTYPE=image/png:https://kennedysbar.co.uk/website/wp-content/uploads/2026/03/heed-8thaug.png
END:VEVENT
BEGIN:VEVENT
DTSTART;TZID=Europe/London:20260828T193000
DTEND;TZID=Europe/London:20260828T233000
DTSTAMP:20260423T181224
CREATED:20260305T115639Z
LAST-MODIFIED:20260305T115731Z
UID:14397-1787945400-1787959800@kennedysbar.co.uk
SUMMARY:Off the Wall
DESCRIPTION:🎶 Live Music at Kennedy’s Bar – Off the Wall 🎶 \n📅 Saturday 28th August\n📍 Kennedy’s Bar\, Birmingham \nGet ready for a fantastic night of live music with Off the Wall\, a talented local Birmingham band bringing you covers from across the decades and genres. From classic favourites to modern hits\, there’ll be something for everyone to enjoy. \nWhether you’re up for a sing-along\, a dance\, or just a great atmosphere with friends\, Kennedy’s Bar is the place to be! \n🎤 Live Band\n🍻 Great Drinks\n🎵 Music You Know & Love \nFree entry – everyone welcome!\nCome down and support local live music for a great night out
URL:https://kennedysbar.co.uk/event/off-the-wall-3/
CATEGORIES:Live Music
ATTACH;FMTTYPE=image/png:https://kennedysbar.co.uk/website/wp-content/uploads/2026/03/offthewall28thaugust.png
END:VEVENT
BEGIN:VEVENT
DTSTART;TZID=Europe/London:20261010T210000
DTEND;TZID=Europe/London:20261010T233000
DTSTAMP:20260423T181224
CREATED:20260409T120335Z
LAST-MODIFIED:20260409T120335Z
UID:14512-1791666000-1791675000@kennedysbar.co.uk
SUMMARY:Ellie Jones & the Giants
DESCRIPTION:Get ready for another unforgettable night of live music as Ellie Jones & the Giants return to Kennedy’s Bar with their signature high-energy sound. \n🔥 Ellie Jones & the Giants – Live📅 Saturday 10th October⏰ From 9:00pm📍 Kennedy’s Bar \nThis electrifying three-piece powerhouse are known for delivering classic gems with a fresh burst of energy\, big vocals\, and tight musicianship that fills the room from the very first note. Their lively stage presence and crowd-pleasing setlist guarantee a night packed with sing-along favourites and dancefloor moments. \nWhether you’re out with friends or just in the mood for great live entertainment\, this is a night that promises feel-good vibes and non-stop music. \n🎤 High-energy 3-piece band🍻 Great drinks & great atmosphere🎶 Classic tunes everyone loves \nFree entry – everyone welcome!
URL:https://kennedysbar.co.uk/event/ellie-jones-the-giants-2/
CATEGORIES:Live Music
ATTACH;FMTTYPE=image/jpeg:https://kennedysbar.co.uk/website/wp-content/uploads/2026/04/ellie-jones-and-the-giants.jpg
END:VEVENT
BEGIN:VEVENT
DTSTART;TZID=Europe/London:20261024T210000
DTEND;TZID=Europe/London:20261024T233000
DTSTAMP:20260423T181224
CREATED:20260417T112859Z
LAST-MODIFIED:20260417T112859Z
UID:14522-1792875600-1792884600@kennedysbar.co.uk
SUMMARY:The Chelsea Daggers
DESCRIPTION:Spend your Saturday night in great company with live music from The Chelsea Daggers as they bring their signature mix of indie\, rock\, and pop anthems to Kennedy’s Bar. \n🔥 The Chelsea Daggers – Live📅 Saturday 24th October⏰ From 9:00pm📍 Kennedy’s Bar \nRenowned for their lively stage presence and a setlist packed with crowd favourites\, the band deliver punchy riffs\, big sing-along choruses\, and feel-good tunes that keep the dancefloor moving all night. From indie classics to rock belters and pop hits everyone knows\, their performance is guaranteed to create a brilliant Saturday night atmosphere. \nWhether you’re catching up with friends or just looking for top live entertainment\, this is one night you won’t want to miss. \n🎤 Indie • Rock • Pop anthems🍻 Great drinks & buzzing vibes🎶 A soundtrack to your perfect weekend night \nFree entry – everyone welcome!
URL:https://kennedysbar.co.uk/event/the-chelsea-daggers-3/
CATEGORIES:Live Music
ATTACH;FMTTYPE=image/jpeg:https://kennedysbar.co.uk/website/wp-content/uploads/2026/04/GENERIC-CHELSEA-DAGGERS-.jpg
END:VEVENT
BEGIN:VEVENT
DTSTART;TZID=Europe/London:20261106T210000
DTEND;TZID=Europe/London:20261106T233000
DTSTAMP:20260423T181224
CREATED:20260417T113410Z
LAST-MODIFIED:20260417T113410Z
UID:14530-1793998800-1794007800@kennedysbar.co.uk
SUMMARY:The Wild Irish
DESCRIPTION:Start your weekend the right way with a lively night of live music at Kennedy’s Bar as The Wild Irish take to the stage with their upbeat Irish covers set. \n🔥 The Wild Irish – Live📅 Friday 6th November⏰ From 9:00pm📍 Kennedy’s Bar \nKnown for their warm harmonies\, infectious energy\, and a setlist packed with favourites\, this talented trio bring the spirit of Ireland together with popular sing-along covers that fill the room with atmosphere. Expect toe-tapping rhythms\, feel-good tunes\, and plenty of moments to raise a glass and join in. \nWhether you’re catching up with friends or looking for a great Friday night soundtrack\, this is live music that guarantees smiles all round. \n🎤 Irish covers trio🍻 Great drinks & brilliant company🎶 Big atmosphere and classic favourites \nFree entry – everyone welcome!
URL:https://kennedysbar.co.uk/event/the-wild-irish-3/
CATEGORIES:Live Music
ATTACH;FMTTYPE=image/jpeg:https://kennedysbar.co.uk/website/wp-content/uploads/2026/04/generic-wild-irish-.jpg
END:VEVENT
BEGIN:VEVENT
DTSTART;TZID=Europe/London:20261205T210000
DTEND;TZID=Europe/London:20261205T233000
DTSTAMP:20260423T181224
CREATED:20260417T113719Z
LAST-MODIFIED:20260417T113719Z
UID:14535-1796504400-1796513400@kennedysbar.co.uk
SUMMARY:The Precursors
DESCRIPTION:Warm up your winter weekend with a skanking\, swaying night of live music at Kennedy’s Bar as The Precursors return with their irresistible mix of ska and reggae covers. \n🔥 The Precursors – Live📅 Saturday 5th December⏰ From 9:00pm📍 Kennedy’s Bar \nBringing bright brass hooks\, rolling basslines\, and that unmistakable offbeat rhythm\, the band deliver a set full of feel-good favourites and laid-back grooves that keep the dancefloor moving. Expect classic ska bounce\, reggae sway\, and plenty of tunes you’ll want to sing along to. \nWhether you’re meeting friends for festive drinks or looking for a lively Saturday night vibe\, this is the perfect soundtrack to your evening. \n🎤 Ska & Reggae covers🍻 Great drinks & warm atmosphere🎶 Non-stop grooves from start to finish \nFree entry – everyone welcome!
URL:https://kennedysbar.co.uk/event/the-precursors-2/
CATEGORIES:Live Music
ATTACH;FMTTYPE=image/jpeg:https://kennedysbar.co.uk/website/wp-content/uploads/2026/04/the-precursr.jpg
END:VEVENT
END:VCALENDAR